BEGIN:VCALENDAR
VERSION:2.0
PRODID:-//La Maison bleu ciel  - ECPv6.15.20//NONSGML v1.0//EN
CALSCALE:GREGORIAN
METHOD:PUBLISH
X-WR-CALNAME:La Maison bleu ciel 
X-ORIGINAL-URL:https://maisonbleuciel.ch
X-WR-CALDESC:Évènements pour La Maison bleu ciel 
REFRESH-INTERVAL;VALUE=DURATION:PT1H
X-Robots-Tag:noindex
X-PUBLISHED-TTL:PT1H
BEGIN:VTIMEZONE
TZID:Europe/Zurich
BEGIN:DAYLIGHT
TZOFFSETFROM:+0100
TZOFFSETTO:+0200
TZNAME:CEST
DTSTART:20250330T010000
END:DAYLIGHT
BEGIN:STANDARD
TZOFFSETFROM:+0200
TZOFFSETTO:+0100
TZNAME:CET
DTSTART:20251026T010000
END:STANDARD
BEGIN:DAYLIGHT
TZOFFSETFROM:+0100
TZOFFSETTO:+0200
TZNAME:CEST
DTSTART:20260329T010000
END:DAYLIGHT
BEGIN:STANDARD
TZOFFSETFROM:+0200
TZOFFSETTO:+0100
TZNAME:CET
DTSTART:20261025T010000
END:STANDARD
BEGIN:DAYLIGHT
TZOFFSETFROM:+0100
TZOFFSETTO:+0200
TZNAME:CEST
DTSTART:20270328T010000
END:DAYLIGHT
BEGIN:STANDARD
TZOFFSETFROM:+0200
TZOFFSETTO:+0100
TZNAME:CET
DTSTART:20271031T010000
END:STANDARD
END:VTIMEZONE
BEGIN:VEVENT
DTSTART;TZID=Europe/Zurich:20260428T150000
DTEND;TZID=Europe/Zurich:20260428T170000
DTSTAMP:20260419T203326
CREATED:20250710T113757Z
LAST-MODIFIED:20250710T113801Z
UID:10000162-1777388400-1777395600@maisonbleuciel.ch
SUMMARY:Cercle bleu ciel
DESCRIPTION:cliquer pour plus de détails\n\n\n\nSur inscription pour l’ensemble de l’année
URL:https://maisonbleuciel.ch/evenement/cercles-bleu-ciel-2025-2026/2026-04-28/
LOCATION:la Maison bleu ciel\, Rte du Grand-Lancy 69\, Grand-Lancy\, 1212\, Switzerland
CATEGORIES:Cercles bleu ciel
ATTACH;FMTTYPE=image/jpeg:https://maisonbleuciel.ch/wp-content/uploads/2025/05/MBC-Cercles-bleu-ciel-2025-2026-scaled.jpg
GEO:46.1826768;6.1197069
X-APPLE-STRUCTURED-LOCATION;VALUE=URI;X-ADDRESS=la Maison bleu ciel Rte du Grand-Lancy 69 Grand-Lancy 1212 Switzerland;X-APPLE-RADIUS=500;X-TITLE=Rte du Grand-Lancy 69:geo:6.1197069,46.1826768
END:VEVENT
BEGIN:VEVENT
DTSTART;TZID=Europe/Zurich:20260526T150000
DTEND;TZID=Europe/Zurich:20260526T170000
DTSTAMP:20260419T203326
CREATED:20250710T113757Z
LAST-MODIFIED:20250710T113801Z
UID:10000163-1779807600-1779814800@maisonbleuciel.ch
SUMMARY:Cercle bleu ciel
DESCRIPTION:cliquer pour plus de détails\n\n\n\nSur inscription pour l’ensemble de l’année
URL:https://maisonbleuciel.ch/evenement/cercles-bleu-ciel-2025-2026/2026-05-26/
LOCATION:la Maison bleu ciel\, Rte du Grand-Lancy 69\, Grand-Lancy\, 1212\, Switzerland
CATEGORIES:Cercles bleu ciel
ATTACH;FMTTYPE=image/jpeg:https://maisonbleuciel.ch/wp-content/uploads/2025/05/MBC-Cercles-bleu-ciel-2025-2026-scaled.jpg
GEO:46.1826768;6.1197069
X-APPLE-STRUCTURED-LOCATION;VALUE=URI;X-ADDRESS=la Maison bleu ciel Rte du Grand-Lancy 69 Grand-Lancy 1212 Switzerland;X-APPLE-RADIUS=500;X-TITLE=Rte du Grand-Lancy 69:geo:6.1197069,46.1826768
END:VEVENT
BEGIN:VEVENT
DTSTART;TZID=Europe/Zurich:20260616T150000
DTEND;TZID=Europe/Zurich:20260616T170000
DTSTAMP:20260419T203326
CREATED:20250710T113757Z
LAST-MODIFIED:20250710T113801Z
UID:10000164-1781622000-1781629200@maisonbleuciel.ch
SUMMARY:Cercle bleu ciel
DESCRIPTION:cliquer pour plus de détails\n\n\n\nSur inscription pour l’ensemble de l’année
URL:https://maisonbleuciel.ch/evenement/cercles-bleu-ciel-2025-2026/2026-06-16/
LOCATION:la Maison bleu ciel\, Rte du Grand-Lancy 69\, Grand-Lancy\, 1212\, Switzerland
CATEGORIES:Cercles bleu ciel
ATTACH;FMTTYPE=image/jpeg:https://maisonbleuciel.ch/wp-content/uploads/2025/05/MBC-Cercles-bleu-ciel-2025-2026-scaled.jpg
GEO:46.1826768;6.1197069
X-APPLE-STRUCTURED-LOCATION;VALUE=URI;X-ADDRESS=la Maison bleu ciel Rte du Grand-Lancy 69 Grand-Lancy 1212 Switzerland;X-APPLE-RADIUS=500;X-TITLE=Rte du Grand-Lancy 69:geo:6.1197069,46.1826768
END:VEVENT
END:VCALENDAR